BEGIN:VCALENDAR
VERSION:2.0
PRODID:-//Communigrow - ECPv6.15.20//NONSGML v1.0//EN
CALSCALE:GREGORIAN
METHOD:PUBLISH
X-ORIGINAL-URL:https://communigrow.org.uk
X-WR-CALDESC:Events for Communigrow
REFRESH-INTERVAL;VALUE=DURATION:PT1H
X-Robots-Tag:noindex
X-PUBLISHED-TTL:PT1H
BEGIN:VTIMEZONE
TZID:Europe/London
BEGIN:DAYLIGHT
TZOFFSETFROM:+0000
TZOFFSETTO:+0100
TZNAME:BST
DTSTART:20240331T010000
END:DAYLIGHT
BEGIN:STANDARD
TZOFFSETFROM:+0100
TZOFFSETTO:+0000
TZNAME:GMT
DTSTART:20241027T010000
END:STANDARD
BEGIN:DAYLIGHT
TZOFFSETFROM:+0000
TZOFFSETTO:+0100
TZNAME:BST
DTSTART:20250330T010000
END:DAYLIGHT
BEGIN:STANDARD
TZOFFSETFROM:+0100
TZOFFSETTO:+0000
TZNAME:GMT
DTSTART:20251026T010000
END:STANDARD
BEGIN:DAYLIGHT
TZOFFSETFROM:+0000
TZOFFSETTO:+0100
TZNAME:BST
DTSTART:20260329T010000
END:DAYLIGHT
BEGIN:STANDARD
TZOFFSETFROM:+0100
TZOFFSETTO:+0000
TZNAME:GMT
DTSTART:20261025T010000
END:STANDARD
END:VTIMEZONE
BEGIN:VEVENT
DTSTART;TZID=Europe/London:20250916T093000
DTEND;TZID=Europe/London:20250916T104500
DTSTAMP:20260419T164921
CREATED:20250910T135807Z
LAST-MODIFIED:20250910T140440Z
UID:10000160-1758015000-1758019500@communigrow.org.uk
SUMMARY:Discounted block booking Plant\, Grow\, Learn Home Ed ages 6-11 (5 sessions)
DESCRIPTION:These hands-on sessions at our sustainable food education charity in East Malling\, Kent\, give children the opportunity to grow\, harvest and cook seasonal vegetables\, support wildlife and care for our planet\, with tutors who have achieved Carbon Literacy certification. \n\n\n\nThis ticket is for a block booking of 5 sessions this term starting on Tuesday 16th September and continuing to 14th October. \n\n\n\n\n\n\n\nProgramme of learning: \n\n\n\n16/9 Practical – Help us get the garden and polytunnel ready for autumn and plant some of our winter crops. \n\n\n\n23/9 Vegetable Families – Know your onions! Learn about the different vegetables we grow and which families they belong to. \n\n\n\n30/9 Practical – As the temperature drops it’s still a busy time in the garden with lots of jobs to help out with. \n\n\n\n7/10 Seed Dispersal – Super seeds! Hands on experiments to find out how seeds are dispersed. \n\n\n\n14/10 Cook up a Feast! – Harvest and cook our fresh veg to make a tasty dish to share. \n\n\n\nDesigned to inspire young people to get outside and active with focused activities to engage and inspire them to learn more about the natural world. \n\n\n\nThe Field School at Communigrow is a relaxed outdoor setting where young people can be themselves. \n\n\n\nExperienced tutors and absorbing activities mean that everyone\, including those with anxiety or sensory needs\, feels comfortable. \n\n\n\nWhilst acquiring valuable practical skills\, learners grow in confidence and experience the mental health benefits that come with spending time in nature. \n\n\n\nRegistration at 9.20 am\, session runs 9.30am – 10.45am \n\n\n\nGood to know: \n\n\n\n\nThese sessions are for children aged 6-11. Please book a ticket per participant.\n\n\n\nOur 6-11 years session is ideal for older primary children and our 4-11 years session is ideal for families with children of different ages who enjoy learning together.\n\n\n\nBooking is essential.\n\n\n\nCompost toilet and hand washing facilities available on site\n\n\n\nFree parking is available.\n\n\n\n\nIf you have any questions please email us:  \n\n\n\neducation@communigrow.org.uk \n\n\n\n*Please note tickets are non-refundable and non-transferable to another event. If you are unable to attend\, you are welcome to transfer your ticket to someone else (please let us know the name and email address of the attendee)\, otherwise your ticket fee will be considered a donation to Communigrow.
URL:https://communigrow.org.uk/event/home-ed-sessions-plant-grow-learn-ages-6-11/
LOCATION:Communigrow Field\, Park Farm\, East Malling/Ditton\, Kent\, ME20 6PE\, United Kingdom
CATEGORIES:Family
ATTACH;FMTTYPE=image/png:https://communigrow.org.uk/wp-content/uploads/2025/08/Plant-Grow-Learn-Home-Ed-45.png
END:VEVENT
BEGIN:VEVENT
DTSTART;TZID=Europe/London:20250916T131500
DTEND;TZID=Europe/London:20250916T143000
DTSTAMP:20260419T164921
CREATED:20250910T141435Z
LAST-MODIFIED:20250916T102604Z
UID:10000161-1758028500-1758033000@communigrow.org.uk
SUMMARY:Discounted block booking Eco-Education Home Ed ages 11-14 (5 sessions)
DESCRIPTION:Interested in the natural world and caring for the environment? Want to gain practical skills and deepen your knowledge? \n\n\n\nOur hands on sessions at our sustainable food education charity in East Malling\, Kent\, give you the opportunity to grow\, harvest and cook seasonal vegetables\, support wildlife and care for our planet\, with tutors who have achieved Carbon Literacy certification. \n\n\n\nWhat you will do: \n\n\n\nHelp maintain the Communigrow garden\, learning about seed dispersal\, the use of herbs and how to propagate them. Help manage our meadow and create habitats for native species as the days get cooler. Cook up a storm using our sustainably grown veg! Develop skills and gain an award – learners completing the course gain a Communigrow Eco Award certificate and will also work towards the Communigrow Horticultural Skills Awards in areas such as seed planting\, tool use and propagation. \n\n\n\nThis ticket is for a block booking of 5 sessions this term starting on Tuesday 16th September and continuing to 14th October. \n\n\n\n\n\n\n\nDesigned to inspire young people to get outside and active with focused activities to engage and inspire them to learn more about the natural world. \n\n\n\nThe Field School at Communigrow is a relaxed outdoor setting where young people can be themselves. \n\n\n\nExperienced tutors and absorbing activities mean that everyone\, including those with anxiety or sensory needs\, feels comfortable. \n\n\n\nWhilst acquiring valuable practical skills\, learners grow in confidence and experience the mental health benefits that come with spending time in nature. \n\n\n\nRegistration at 1.05 pm\, session runs 1.15pm – 2.30pm \n\n\n\nGood to know: \n\n\n\n\nThese sessions are for young people (ages 11-14). Please book a ticket per participant.\n\n\n\nBooking is essential.\n\n\n\nCompost toilet and hand washing facilities available on site\n\n\n\nFree parking is available.\n\n\n\n\nIf you have any questions please email us:  \n\n\n\neducation@communigrow.org.uk \n\n\n\n*Please note tickets are non-refundable and non-transferable to another event. If you are unable to attend\, you are welcome to transfer your ticket to someone else (please let us know the name and email address of the attendee)\, otherwise your ticket fee will be considered a donation to Communigrow.
URL:https://communigrow.org.uk/event/discounted-block-booking-eco-education-home-ed-ages-11-14-5-sessions/
LOCATION:Kent
CATEGORIES:Family
ATTACH;FMTTYPE=image/png:https://communigrow.org.uk/wp-content/uploads/2025/08/Eco-Education-Home-Ed-45-1.png
END:VEVENT
END:VCALENDAR