BEGIN:VCALENDAR
VERSION:2.0
PRODID:-//Communigrow - ECPv6.15.20//NONSGML v1.0//EN
CALSCALE:GREGORIAN
METHOD:PUBLISH
X-ORIGINAL-URL:https://communigrow.org.uk
X-WR-CALDESC:Events for Communigrow
REFRESH-INTERVAL;VALUE=DURATION:PT1H
X-Robots-Tag:noindex
X-PUBLISHED-TTL:PT1H
BEGIN:VTIMEZONE
TZID:Europe/London
BEGIN:DAYLIGHT
TZOFFSETFROM:+0000
TZOFFSETTO:+0100
TZNAME:BST
DTSTART:20250330T010000
END:DAYLIGHT
BEGIN:STANDARD
TZOFFSETFROM:+0100
TZOFFSETTO:+0000
TZNAME:GMT
DTSTART:20251026T010000
END:STANDARD
BEGIN:DAYLIGHT
TZOFFSETFROM:+0000
TZOFFSETTO:+0100
TZNAME:BST
DTSTART:20260329T010000
END:DAYLIGHT
BEGIN:STANDARD
TZOFFSETFROM:+0100
TZOFFSETTO:+0000
TZNAME:GMT
DTSTART:20261025T010000
END:STANDARD
BEGIN:DAYLIGHT
TZOFFSETFROM:+0000
TZOFFSETTO:+0100
TZNAME:BST
DTSTART:20270328T010000
END:DAYLIGHT
BEGIN:STANDARD
TZOFFSETFROM:+0100
TZOFFSETTO:+0000
TZNAME:GMT
DTSTART:20271031T010000
END:STANDARD
END:VTIMEZONE
BEGIN:VEVENT
DTSTART;TZID=Europe/London:20260421T011500
DTEND;TZID=Europe/London:20260421T143000
DTSTAMP:20260423T232558
CREATED:20260402T134731Z
LAST-MODIFIED:20260415T143631Z
UID:10000221-1776734100-1776781800@communigrow.org.uk
SUMMARY:Eco-Education - Home Ed ages 11-16
DESCRIPTION:This is a block of 5 sessions running from Tuesday 21st April 2026. \n\n\n\nInterested in the natural world and caring for the environment. Want to gain practical skills and deepen your knowledge? \n\n\n\nOur hands on sessions give young people the opportunity to grow\, harvest and cook seasonal vegetables\, support wildlife and care for our planet. \n\n\n\nThe Field School at Communigrow is a relaxed outdoor setting where young people can be themselves. \n\n\n\nExperienced tutors and absorbing activities mean that everyone\, including those with anxiety or sensory needs\, feels comfortable. \n\n\n\nWhilst acquiring valuable practical skills\, learners grow in confidence and experience the mental health benefits that come with spending time in nature. \n\n\n\nRegistration at 1.05pm\, session runs 1.15pm – 2.30pm \n\n\n\nGood to know: \n\n\n\n\nThese sessions are for young people (ages 11-16). Please book a ticket per participant. The programme covers 5 lessons (£37 per child)\n\n\n\nBooking is essential.\n\n\n\nCompost toilet and hand washing facilities available on site\n\n\n\nFree parking is available.\n\n\n\n\nIf you have any questions please email us: education@communigrow.org.uk \n\n\n\n*Please note tickets are non-refundable and non-transferable to another event. If you are unable to attend\, you are welcome to transfer your ticket to someone else (please let us know the name and email address of the attendee)\, otherwise your ticket fee will be considered a donation to Communigrow.
URL:https://communigrow.org.uk/event/eco-education-home-ed-ages-11-16/
LOCATION:Communigrow\, New Road\, East Malling\, Kent\, ME19 6DD\, United Kingdom
CATEGORIES:Family
ATTACH;FMTTYPE=image/png:https://communigrow.org.uk/wp-content/uploads/2026/04/Eco-Education-Home-Ed-45-1.png
END:VEVENT
BEGIN:VEVENT
DTSTART;TZID=Europe/London:20260421T093000
DTEND;TZID=Europe/London:20260421T104500
DTSTAMP:20260423T232558
CREATED:20260402T133750Z
LAST-MODIFIED:20260415T143929Z
UID:10000220-1776763800-1776768300@communigrow.org.uk
SUMMARY:Plant\, Grow\, Learn - Home Ed ages 7-11
DESCRIPTION:Interested in the natural world and caring for the environment. Want to gain practical skills and deepen your knowledge? \n\n\n\nOur hands on sessions give children the opportunity to grow\, harvest and cook seasonal vegetables\, support wildlife and care for our planet. \n\n\n\n\n\n\n\nThe Field School at Communigrow is a relaxed outdoor setting where young people can be themselves. \n\n\n\nExperienced tutors and absorbing activities mean that everyone\, including those with anxiety or sensory needs\, feels comfortable. \n\n\n\nWhilst acquiring valuable practical skills\, learners grow in confidence and experience the mental health benefits that come with spending time in nature. \n\n\n\nRegistration at 9.20 am\, session runs 9.30am – 10.45pm \n\n\n\nGood to know: \n\n\n\n\nThese sessions are for children (ages 7-11). Please book a ticket per participant. The programme covers 5 lessons (£37 per child)\n\n\n\nBooking is essential.\n\n\n\nCompost toilet and hand washing facilities available on site\n\n\n\nFree parking is available.\n\n\n\n\nIf you have any questions please email us: education@communigrow.org.uk \n\n\n\n*Please note tickets are non-refundable and non-transferable to another event. If you are unable to attend\, you are welcome to transfer your ticket to someone else (please let us know the name and email address of the attendee)\, otherwise your ticket fee will be considered a donation to Communigrow.
URL:https://communigrow.org.uk/event/plant-grow-learn-home-ed-ages-7-11/
LOCATION:Communigrow\, New Road\, East Malling\, Kent\, ME19 6DD\, United Kingdom
CATEGORIES:Family
ATTACH;FMTTYPE=image/png:https://communigrow.org.uk/wp-content/uploads/2026/04/Plant-Grow-Learn-Home-Ed-Spring-26-45-1.png
END:VEVENT
BEGIN:VEVENT
DTSTART;TZID=Europe/London:20260421T111500
DTEND;TZID=Europe/London:20260421T123000
DTSTAMP:20260423T232558
CREATED:20260402T132538Z
LAST-MODIFIED:20260415T145254Z
UID:10000219-1776770100-1776774600@communigrow.org.uk
SUMMARY:Plant\, Grow\, Learn - Home Ed ages 4-8
DESCRIPTION:This is a block of 5 sessions running from Tuesday 21st April 2026. \n\n\n\nInterested in the natural world and caring for the environment. Want to gain practical skills and deepen your knowledge? \n\n\n\nOur hands on sessions give children the opportunity to grow\, harvest and cook seasonal vegetables\, support wildlife and care for our planet. \n\n\n\n\n\n\n\nThe Field School at Communigrow is a relaxed outdoor setting where young people can be themselves. \n\n\n\nExperienced tutors and absorbing activities mean that everyone\, including those with anxiety or sensory needs\, feels comfortable. \n\n\n\nWhilst acquiring valuable practical skills\, learners grow in confidence and experience the mental health benefits that come with spending time in nature. \n\n\n\nRegistration at 10.50 am\, session runs 11am – 12.15pm \n\n\n\nGood to know: \n\n\n\n\nThese sessions are for children (ages 4-8). Please book a ticket per participant. The programme covers 5 lessons (£37 per child)\n\n\n\nBooking is essential.\n\n\n\nCompost toilet and hand washing facilities available on site\n\n\n\nFree parking is available.\n\n\n\n\nIf you have any questions please email us: education@communigrow.org.uk \n\n\n\n*Please note tickets are non-refundable and non-transferable to another event. If you are unable to attend\, you are welcome to transfer your ticket to someone else (please let us know the name and email address of the attendee)\, otherwise your ticket fee will be considered a donation to Communigrow.
URL:https://communigrow.org.uk/event/plant-grow-learn-home-ed-ages-4-8/
LOCATION:Communigrow\, New Road\, East Malling\, Kent\, ME19 6DD\, United Kingdom
CATEGORIES:Family
ATTACH;FMTTYPE=image/png:https://communigrow.org.uk/wp-content/uploads/2026/04/Plant-Grow-Learn-Home-Ed-Spring-26-45-1.png
END:VEVENT
END:VCALENDAR